Workbook
Name Excel_BuiltIn__FilterDatabase: Eingabe!$C$1:$C$2211

Sheet Grunddaten
A1: Berliner Einzelmeisterschaften Classic | D1: 2026
A3: Altersklasse | B3: Vorlauf | D3: Endlauf | H3: 2025
B4: Datum | C4: Bahnen | D4: Datum | E4: Bahnen
A5: Frauen | B5: 09.05.2026 | C5: V 1-4 | D5: 10.05.2026 | E5: H 13-16 | G5: 10.05.2025 | H5: V 1-4 | I5: 11.05.2025 | J5: H 13-16
A6: U23 weiblich | B6: 11.04.2026 | C6: H 9-12 | D6: 12.04.2026 | E6: V 1-4 | G6: 08.05.2025 | H6: V 1-4 | I6: 09.05.2025 | J6: H 13-16
A7: Männer | B7: 09.05.2026 | C7: V 1-4 | D7: 10.05.2026 | E7: H 9-12 | G7: 10.05.2025 | H7: V 1-4 | I7: 11.05.2025 | J7: H 13-16
A8: U23 männlich | B8: 11.04.2026 | C8: H 9-12 | D8: 12.04.2026 | E8: V 1-4 | G8: 08.05.2025 | H8: V 1-4 | I8: 09.05.2025 | J8: H 13-16

Sheet Namen
A1: Starter zur BEM
A3: U23 weiblich | F3: U23 männlich
A4: Pl. | B4: Name | C4: Klub Start | D4: Klub Erg | F4: Pl. | G4: Name | H4: Klub Start | I4: Klub Erg
B5: Josephin Liss (TV) | C5: SV Semper | D5: SV Semper | G5: Kristoph Napp (TV) | H5: Hertha BSC | I5: Hertha BSC
B6: Laila Linke | C6: SV Semper | D6: SV Semper | G6: Lou-Lennard Gelder | H6: BSV AdW | I6: BSV AdW
B7: Emely Hanke | C7: KSC SW Berlin | D7: SW Berlin | G7: Benjamin Lück | H7: BSV AdW | I7: BSV AdW
B8: U23w 04 | G8: U23m 04
B9: U23w 05 | G9: U23m 05
B10: U23w 06 | G10: U23m 06
B11: U23w 07 | G11: U23m 07
B12: U23w 08 | G12: U23m 08
A15: Frauen | F15: Männer
A16: Pl. | B16: Name | C16: Klub Start | D16: Klub Erg | F16: Pl. | G16: Name | H16: Klub Start | I16: Klub Erg
A17: 1 | B17: Frauen 1 | F17: 1 | G17: Männer 1
A18: 2 | B18: Frauen 2 | F18: 2 | G18: Männer 2
A19: 3 | B19: Frauen 3 | F19: 3 | G19: Männer 3
A20: 4 | B20: Frauen 4 | F20: 4 | G20: Männer 4
A21: 5 | B21: Frauen 5 | F21: 5 | G21: Männer 5
A22: 6 | B22: Frauen 6 | F22: 6 | G22: Männer 6
A23: 7 | B23: Frauen 7 | F23: 6 | G23: Männer 7
A24: 8 | B24: Frauen 8 | F24: 8 | G24: Männer 8
A25: 9 | B25: Frauen 9 | F25: 9 | G25: Männer 9
A26: 10 | B26: Frauen 10 | F26: 10 | G26: Männer 10
A27: 11 | B27: Frauen 11 | F27: 11 | G27: Männer 11
A28: 12 | B28: Frauen 12 | F28: 12 | G28: Männer 12
... A32: 16 | B32: Frauen 16 | F32: 16 | G32: Männer 16
F33: 17 | G33: Männer 17
F34: 18 | G34: Männer 18
F35: 19 | G35: Männer 19
F36: 20 | G36: Männer 20
F37: 21 | G37: Männer 21
F38: 22 | G38: Männer 22
F39: 23 | G39: Männer 23
F40: 24 | G40: Männer 24

Sheet Eingabe
D1: ADV | G1: Vorlauf | K1: Endlauf | O1: Gesamt
B2: Name | C2: Verein | D2: Nr. | E2: Geb.-Dat. | F2: Lizenz-ID | G2: V | H2: A | I2: F | J2: G | K2: V | L2: A | M2: F | N2: G | O2: V | P2: A | Q2: F | R2: G | T2: Disziplin | U2: Startbahn | V2: Startzeit
B3: Frauen
A4: 1 | B4: =Namen!B17 -> Frauen 1 | C4: =Namen!D17 -> 0 | J4: =G4+H4 -> 0 | N4: =K4+L4 -> 0 | O4: =G4+K4 -> 0 | P4: =H4+L4 -> 0 | Q4: =I4+M4 -> 0 | R4: =J4+N4 -> 0
A5: 2 | B5: =Namen!B18 -> Frauen 2 | C5: =Namen!D18 -> 0 | J5: =G5+H5 -> 0 | N5: =K5+L5 -> 0 | O5: =G5+K5 -> 0 | P5: =H5+L5 -> 0 | Q5: =I5+M5 -> 0 | R5: =J5+N5 -> 0
A6: 3 | B6: =Namen!B19 -> Frauen 3 | C6: =Namen!D19 -> 0 | J6: =G6+H6 -> 0 | N6: =K6+L6 -> 0 | O6: =G6+K6 -> 0 | P6: =H6+L6 -> 0 | Q6: =I6+M6 -> 0 | R6: =J6+N6 -> 0
A7: 4 | B7: =Namen!B20 -> Frauen 4 | C7: =Namen!D20 -> 0 | J7: =G7+H7 -> 0 | N7: =K7+L7 -> 0 | O7: =G7+K7 -> 0 | P7: =H7+L7 -> 0 | Q7: =I7+M7 -> 0 | R7: =J7+N7 -> 0
A8: 5 | B8: =Namen!B21 -> Frauen 5 | C8: =Namen!D21 -> 0 | J8: =G8+H8 -> 0 | N8: =K8+L8 -> 0 | O8: =G8+K8 -> 0 | P8: =H8+L8 -> 0 | Q8: =I8+M8 -> 0 | R8: =J8+N8 -> 0
A9: 6 | B9: =Namen!B22 -> Frauen 6 | C9: =Namen!D22 -> 0 | J9: =G9+H9 -> 0 | N9: =K9+L9 -> 0 | O9: =G9+K9 -> 0 | P9: =H9+L9 -> 0 | Q9: =I9+M9 -> 0 | R9: =J9+N9 -> 0
A10: 7 | B10: =Namen!B23 -> Frauen 7 | C10: =Namen!D23 -> 0 | J10: =G10+H10 -> 0 | N10: =K10+L10 -> 0 | O10: =G10+K10 -> 0 | P10: =H10+L10 -> 0 | Q10: =I10+M10 -> 0 | R10: =J10+N10 -> 0
A11: 8 | B11: =Namen!B24 -> Frauen 8 | C11: =Namen!D24 -> 0 | J11: =G11+H11 -> 0 | N11: =K11+L11 -> 0 | O11: =G11+K11 -> 0 | P11: =H11+L11 -> 0 | Q11: =I11+M11 -> 0 | R11: =J11+N11 -> 0
A12: 9 | B12: =Namen!B25 -> Frauen 9 | C12: =Namen!D25 -> 0 | J12: =G12+H12 -> 0 | N12: =K12+L12 -> 0 | O12: =G12+K12 -> 0 | P12: =H12+L12 -> 0 | Q12: =I12+M12 -> 0 | R12: =J12+N12 -> 0
A13: 10 | B13: =Namen!B26 -> Frauen 10 | C13: =Namen!D26 -> 0 | J13: =G13+H13 -> 0 | N13: =K13+L13 -> 0 | O13: =G13+K13 -> 0 | P13: =H13+L13 -> 0 | Q13: =I13+M13 -> 0 | R13: =J13+N13 -> 0
A14: 11 | B14: =Namen!B27 -> Frauen 11 | C14: =Namen!D27 -> 0 | J14: =G14+H14 -> 0 | N14: =K14+L14 -> 0 | O14: =G14+K14 -> 0 | P14: =H14+L14 -> 0 | Q14: =I14+M14 -> 0 | R14: =J14+N14 -> 0
A15: 12 | B15: =Namen!B28 -> Frauen 12 | C15: =Namen!D28 -> 0 | J15: =G15+H15 -> 0 | N15: =K15+L15 -> 0 | O15: =G15+K15 -> 0 | P15: =H15+L15 -> 0 | Q15: =I15+M15 -> 0 | R15: =J15+N15 -> 0
... A19: 16 | B19: =Namen!B32 -> Frauen 16 | C19: =Namen!D32 -> 0 | J19: =G19+H19 -> 0 | N19: =K19+L19 -> 0 | O19: =G19+K19 -> 0 | P19: =H19+L19 -> 0 | Q19: =I19+M19 -> 0 | R19: =J19+N19 -> 0
B20: U23 weiblich
A21: 1 | B21: =Namen!B5 -> Josephin Liss (TV) | C21: =Namen!D5 -> SV Semper | D21: DKBC-004488 | E21: 38538 | F21: 134752 | J21: =G21+H21 -> 0 | N21: =K21+L21 -> 0 | O21: =G21+K21 -> 0 | P21: =H21+L21 -> 0 | Q21: =I21+M21 -> 0 | R21: =J21+N21 -> 0
A22: 2 | B22: =Namen!B6 -> Laila Linke | C22: =Namen!D6 -> SV Semper | D22: DBKV-000773 | E22: 38830 | F22: 138595 | J22: =G22+H22 -> 0 | N22: =K22+L22 -> 0 | O22: =G22+K22 -> 0 | P22: =H22+L22 -> 0 | Q22: =I22+M22 -> 0 | R22: =J22+N22 -> 0
A23: 3 | B23: =Namen!B7 -> Emely Hanke | C23: =Namen!D7 -> SW Berlin | J23: =G23+H23 -> 0 | N23: =K23+L23 -> 0 | O23: =G23+K23 -> 0 | P23: =H23+L23 -> 0 | Q23: =I23+M23 -> 0 | R23: =J23+N23 -> 0
A24: 4 | B24: =Namen!B8 -> U23w 04 | C24: =Namen!D8 -> 0 | J24: =G24+H24 -> 0 | N24: =K24+L24 -> 0 | O24: =G24+K24 -> 0 | P24: =H24+L24 -> 0 | Q24: =I24+M24 -> 0 | R24: =J24+N24 -> 0
A25: 5 | B25: =Namen!B9 -> U23w 05 | C25: =Namen!D9 -> 0 | J25: =G25+H25 -> 0 | N25: =K25+L25 -> 0 | O25: =G25+K25 -> 0 | P25: =H25+L25 -> 0 | Q25: =I25+M25 -> 0 | R25: =J25+N25 -> 0
A26: 6 | B26: =Namen!B10 -> U23w 06 | C26: =Namen!D10 -> 0 | J26: =G26+H26 -> 0 | N26: =K26+L26 -> 0 | O26: =G26+K26 -> 0 | P26: =H26+L26 -> 0 | Q26: =I26+M26 -> 0 | R26: =J26+N26 -> 0
A27: 7 | B27: =Namen!B11 -> U23w 07 | C27: =Namen!D11 -> 0 | J27: =G27+H27 -> 0 | N27: =K27+L27 -> 0 | O27: =G27+K27 -> 0 | P27: =H27+L27 -> 0 | Q27: =I27+M27 -> 0 | R27: =J27+N27 -> 0
A28: 8 | B28: =Namen!B12 -> U23w 08 | C28: =Namen!D12 -> 0 | J28: =G28+H28 -> 0 | N28: =K28+L28 -> 0 | O28: =G28+K28 -> 0 | P28: =H28+L28 -> 0 | Q28: =I28+M28 -> 0 | R28: =J28+N28 -> 0
B29: Männer | J29: =G29+H29 -> 0
A30: 1 | B30: =Namen!G17 -> Männer 1 | C30: =Namen!I17 -> 0 | J30: =G30+H30 -> 0 | N30: =K30+L30 -> 0 | O30: =G30+K30 -> 0 | P30: =H30+L30 -> 0 | Q30: =I30+M30 -> 0 | R30: =J30+N30 -> 0
A31: 2 | B31: =Namen!G18 -> Männer 2 | C31: =Namen!I18 -> 0 | J31: =G31+H31 -> 0 | N31: =K31+L31 -> 0 | O31: =G31+K31 -> 0 | P31: =H31+L31 -> 0 | Q31: =I31+M31 -> 0 | R31: =J31+N31 -> 0
A32: 3 | B32: =Namen!G19 -> Männer 3 | C32: =Namen!I19 -> 0 | J32: =G32+H32 -> 0 | N32: =K32+L32 -> 0 | O32: =G32+K32 -> 0 | P32: =H32+L32 -> 0 | Q32: =I32+M32 -> 0 | R32: =J32+N32 -> 0
A33: 4 | B33: =Namen!G20 -> Männer 4 | C33: =Namen!I20 -> 0 | J33: =G33+H33 -> 0 | N33: =K33+L33 -> 0 | O33: =G33+K33 -> 0 | P33: =H33+L33 -> 0 | Q33: =I33+M33 -> 0 | R33: =J33+N33 -> 0
A34: 5 | B34: =Namen!G21 -> Männer 5 | C34: =Namen!I21 -> 0 | J34: =G34+H34 -> 0 | N34: =K34+L34 -> 0 | O34: =G34+K34 -> 0 | P34: =H34+L34 -> 0 | Q34: =I34+M34 -> 0 | R34: =J34+N34 -> 0
A35: 6 | B35: =Namen!G22 -> Männer 6 | C35: =Namen!I22 -> 0 | J35: =G35+H35 -> 0 | N35: =K35+L35 -> 0 | O35: =G35+K35 -> 0 | P35: =H35+L35 -> 0 | Q35: =I35+M35 -> 0 | R35: =J35+N35 -> 0
A36: 7 | B36: =Namen!G23 -> Männer 7 | C36: =Namen!I23 -> 0 | J36: =G36+H36 -> 0 | N36: =K36+L36 -> 0 | O36: =G36+K36 -> 0 | P36: =H36+L36 -> 0 | Q36: =I36+M36 -> 0 | R36: =J36+N36 -> 0
A37: 8 | B37: =Namen!G24 -> Männer 8 | C37: =Namen!I24 -> 0 | J37: =G37+H37 -> 0 | N37: =K37+L37 -> 0 | O37: =G37+K37 -> 0 | P37: =H37+L37 -> 0 | Q37: =I37+M37 -> 0 | R37: =J37+N37 -> 0
A38: 9 | B38: =Namen!G25 -> Männer 9 | C38: =Namen!I25 -> 0 | J38: =G38+H38 -> 0 | N38: =K38+L38 -> 0 | O38: =G38+K38 -> 0 | P38: =H38+L38 -> 0 | Q38: =I38+M38 -> 0 | R38: =J38+N38 -> 0
A39: 10 | B39: =Namen!G26 -> Männer 10 | C39: =Namen!I26 -> 0 | J39: =G39+H39 -> 0 | N39: =K39+L39 -> 0 | O39: =G39+K39 -> 0 | P39: =H39+L39 -> 0 | Q39: =I39+M39 -> 0 | R39: =J39+N39 -> 0
A40: 11 | B40: =Namen!G27 -> Männer 11 | C40: =Namen!I27 -> 0 | J40: =G40+H40 -> 0 | N40: =K40+L40 -> 0 | O40: =G40+K40 -> 0 | P40: =H40+L40 -> 0 | Q40: =I40+M40 -> 0 | R40: =J40+N40 -> 0
A41: 12 | B41: =Namen!G28 -> Männer 12 | C41: =Namen!I28 -> 0 | J41: =G41+H41 -> 0 | N41: =K41+L41 -> 0 | O41: =G41+K41 -> 0 | P41: =H41+L41 -> 0 | Q41: =I41+M41 -> 0 | R41: =J41+N41 -> 0
... A53: 24 | B53: =Namen!G40 -> Männer 24 | C53: =Namen!I40 -> 0 | J53: =G53+H53 -> 0 | N53: =K53+L53 -> 0 | O53: =G53+K53 -> 0 | P53: =H53+L53 -> 0 | Q53: =I53+M53 -> 0 | R53: =J53+N53 -> 0
B54: U23 männlich
...

Sheet Ergebnislisten
T1: Bitte auf diesem Blatt keine Eingaben machen (zerstört Formeln).
E5: =Grunddaten!A1&" "&Grunddaten!D1 -> Berliner Einzelmeisterschaften Classic 2026
C10: =Grunddaten!A5 -> Frauen | F10: ="Vorlauf, "&Grunddaten!B5&", "&Grunddaten!C5 -> Vorlauf, 09.05.2026, V 1-4 | K10: ="Endlauf, "&Grunddaten!D5&", "&Grunddaten!E5 -> Endlauf, 10.05.2026, H 13-16 | P10: Gesamt
A11: DM-TN | B11: Platz | C11: Name | D11: Klub/Verein | F11: Volle | G11: Abr. | H11: FW | I11: Gesamt | K11: Volle | L11: Abr. | M11: FW | N11: Gesamt | P11: Volle | Q11: Abr. | R11: FW | S11: Gesamt
B12: 1. | C12: =Eingabe!B4 -> Frauen 1 | D12: =Eingabe!C4 -> 0 | F12: =Eingabe!G4 -> 0 | G12: =Eingabe!H4 -> 0 | H12: =Eingabe!I4 -> 0 | I12: =Eingabe!J4 -> 0 | K12: =Eingabe!K4 -> 0 | L12: =Eingabe!L4 -> 0 | M12: =Eingabe!M4 -> 0 | N12: =Eingabe!N4 -> 0 | P12: =Eingabe!O4 -> 0 | Q12: =Eingabe!P4 -> 0 | R12: =Eingabe!Q4 -> 0 | S12: =Eingabe!R4 -> 0
A13: DM | B13: 2. | C13: =Eingabe!B5 -> Frauen 2 | D13: =Eingabe!C5 -> 0 | F13: =Eingabe!G5 -> 0 | G13: =Eingabe!H5 -> 0 | H13: =Eingabe!I5 -> 0 | I13: =Eingabe!J5 -> 0 | K13: =Eingabe!K5 -> 0 | L13: =Eingabe!L5 -> 0 | M13: =Eingabe!M5 -> 0 | N13: =Eingabe!N5 -> 0 | P13: =Eingabe!O5 -> 0 | Q13: =Eingabe!P5 -> 0 | R13: =Eingabe!Q5 -> 0 | S13: =Eingabe!R5 -> 0
B14: 3. | C14: =Eingabe!B6 -> Frauen 3 | D14: =Eingabe!C6 -> 0 | F14: =Eingabe!G6 -> 0 | G14: =Eingabe!H6 -> 0 | H14: =Eingabe!I6 -> 0 | I14: =Eingabe!J6 -> 0 | K14: =Eingabe!K6 -> 0 | L14: =Eingabe!L6 -> 0 | M14: =Eingabe!M6 -> 0 | N14: =Eingabe!N6 -> 0 | P14: =Eingabe!O6 -> 0 | Q14: =Eingabe!P6 -> 0 | R14: =Eingabe!Q6 -> 0 | S14: =Eingabe!R6 -> 0
B15: 4. | C15: =Eingabe!B7 -> Frauen 4 | D15: =Eingabe!C7 -> 0 | F15: =Eingabe!G7 -> 0 | G15: =Eingabe!H7 -> 0 | H15: =Eingabe!I7 -> 0 | I15: =Eingabe!J7 -> 0 | K15: =Eingabe!K7 -> 0 | L15: =Eingabe!L7 -> 0 | M15: =Eingabe!M7 -> 0 | N15: =Eingabe!N7 -> 0 | P15: =Eingabe!O7 -> 0 | Q15: =Eingabe!P7 -> 0 | R15: =Eingabe!Q7 -> 0 | S15: =Eingabe!R7 -> 0
B16: 5. | C16: =Eingabe!B8 -> Frauen 5 | D16: =Eingabe!C8 -> 0 | F16: =Eingabe!G8 -> 0 | G16: =Eingabe!H8 -> 0 | H16: =Eingabe!I8 -> 0 | I16: =Eingabe!J8 -> 0 | K16: =Eingabe!K8 -> 0 | L16: =Eingabe!L8 -> 0 | M16: =Eingabe!M8 -> 0 | N16: =Eingabe!N8 -> 0 | P16: =Eingabe!O8 -> 0 | Q16: =Eingabe!P8 -> 0 | R16: =Eingabe!Q8 -> 0 | S16: =Eingabe!R8 -> 0
B17: 6. | C17: =Eingabe!B9 -> Frauen 6 | D17: =Eingabe!C9 -> 0 | F17: =Eingabe!G9 -> 0 | G17: =Eingabe!H9 -> 0 | H17: =Eingabe!I9 -> 0 | I17: =Eingabe!J9 -> 0 | K17: =Eingabe!K9 -> 0 | L17: =Eingabe!L9 -> 0 | M17: =Eingabe!M9 -> 0 | N17: =Eingabe!N9 -> 0 | P17: =Eingabe!O9 -> 0 | Q17: =Eingabe!P9 -> 0 | R17: =Eingabe!Q9 -> 0 | S17: =Eingabe!R9 -> 0
B18: 7. | C18: =Eingabe!B10 -> Frauen 7 | D18: =Eingabe!C10 -> 0 | F18: =Eingabe!G10 -> 0 | G18: =Eingabe!H10 -> 0 | H18: =Eingabe!I10 -> 0 | I18: =Eingabe!J10 -> 0 | K18: =Eingabe!K10 -> 0 | L18: =Eingabe!L10 -> 0 | M18: =Eingabe!M10 -> 0 | N18: =Eingabe!N10 -> 0 | P18: =Eingabe!O10 -> 0 | Q18: =Eingabe!P10 -> 0 | R18: =Eingabe!Q10 -> 0 | S18: =Eingabe!R10 -> 0
B19: 8. | C19: =Eingabe!B11 -> Frauen 8 | D19: =Eingabe!C11 -> 0 | F19: =Eingabe!G11 -> 0 | G19: =Eingabe!H11 -> 0 | H19: =Eingabe!I11 -> 0 | I19: =Eingabe!J11 -> 0 | K19: =Eingabe!K11 -> 0 | L19: =Eingabe!L11 -> 0 | M19: =Eingabe!M11 -> 0 | N19: =Eingabe!N11 -> 0 | P19: =Eingabe!O11 -> 0 | Q19: =Eingabe!P11 -> 0 | R19: =Eingabe!Q11 -> 0 | S19: =Eingabe!R11 -> 0
B20: 9. | C20: =Eingabe!B12 -> Frauen 9 | D20: =Eingabe!C12 -> 0 | F20: =Eingabe!G12 -> 0 | G20: =Eingabe!H12 -> 0 | H20: =Eingabe!I12 -> 0 | I20: =Eingabe!J12 -> 0 | K20: =Eingabe!K12 -> 0 | L20: =Eingabe!L12 -> 0 | M20: =Eingabe!M12 -> 0 | N20: =Eingabe!N12 -> 0 | P20: =Eingabe!O12 -> 0 | Q20: =Eingabe!P12 -> 0 | R20: =Eingabe!Q12 -> 0 | S20: =Eingabe!R12 -> 0
B21: 10. | C21: =Eingabe!B13 -> Frauen 10 | D21: =Eingabe!C13 -> 0 | F21: =Eingabe!G13 -> 0 | G21: =Eingabe!H13 -> 0 | H21: =Eingabe!I13 -> 0 | I21: =Eingabe!J13 -> 0 | K21: =Eingabe!K13 -> 0 | L21: =Eingabe!L13 -> 0 | M21: =Eingabe!M13 -> 0 | N21: =Eingabe!N13 -> 0 | P21: =Eingabe!O13 -> 0 | Q21: =Eingabe!P13 -> 0 | R21: =Eingabe!Q13 -> 0 | S21: =Eingabe!R13 -> 0
B22: 11. | C22: =Eingabe!B14 -> Frauen 11 | D22: =Eingabe!C14 -> 0 | F22: =Eingabe!G14 -> 0 | G22: =Eingabe!H14 -> 0 | H22: =Eingabe!I14 -> 0 | I22: =Eingabe!J14 -> 0 | K22: =Eingabe!K14 -> 0 | L22: =Eingabe!L14 -> 0 | M22: =Eingabe!M14 -> 0 | N22: =Eingabe!N14 -> 0 | P22: =Eingabe!O14 -> 0 | Q22: =Eingabe!P14 -> 0 | R22: =Eingabe!Q14 -> 0 | S22: =Eingabe!R14 -> 0
B23: 12. | C23: =Eingabe!B15 -> Frauen 12 | D23: =Eingabe!C15 -> 0 | F23: =Eingabe!G15 -> 0 | G23: =Eingabe!H15 -> 0 | H23: =Eingabe!I15 -> 0 | I23: =Eingabe!J15 -> 0 | K23: =Eingabe!K15 -> 0 | L23: =Eingabe!L15 -> 0 | M23: =Eingabe!M15 -> 0 | N23: =Eingabe!N15 -> 0 | P23: =Eingabe!O15 -> 0 | Q23: =Eingabe!P15 -> 0 | R23: =Eingabe!Q15 -> 0 | S23: =Eingabe!R15 -> 0
B24: 13. | C24: =Eingabe!B16 -> Frauen 13 | D24: =Eingabe!C16 -> 0 | F24: =Eingabe!G16 -> 0 | G24: =Eingabe!H16 -> 0 | H24: =Eingabe!I16 -> 0 | I24: =Eingabe!J16 -> 0 | K24: =Eingabe!K16 -> 0 | L24: =Eingabe!L16 -> 0 | M24: =Eingabe!M16 -> 0 | N24: =Eingabe!N16 -> 0 | P24: =Eingabe!O16 -> 0 | Q24: =Eingabe!P16 -> 0 | R24: =Eingabe!Q16 -> 0 | S24: =Eingabe!R16 -> 0
B25: 14. | C25: =Eingabe!B17 -> Frauen 14 | D25: =Eingabe!C17 -> 0 | F25: =Eingabe!G17 -> 0 | G25: =Eingabe!H17 -> 0 | H25: =Eingabe!I17 -> 0 | I25: =Eingabe!J17 -> 0 | K25: =Eingabe!K17 -> 0 | L25: =Eingabe!L17 -> 0 | M25: =Eingabe!M17 -> 0 | N25: =Eingabe!N17 -> 0 | P25: =Eingabe!O17 -> 0 | Q25: =Eingabe!P17 -> 0 | R25: =Eingabe!Q17 -> 0 | S25: =Eingabe!R17 -> 0
... B27: 16. | C27: =Eingabe!B19 -> Frauen 16 | D27: =Eingabe!C19 -> 0 | F27: =Eingabe!G19 -> 0 | G27: =Eingabe!H19 -> 0 | H27: =Eingabe!I19 -> 0 | I27: =Eingabe!J19 -> 0 | K27: =Eingabe!K19 -> 0 | L27: =Eingabe!L19 -> 0 | M27: =Eingabe!M19 -> 0 | N27: =Eingabe!N19 -> 0 | P27: =Eingabe!O19 -> 0 | Q27: =Eingabe!P19 -> 0 | R27: =Eingabe!Q19 -> 0 | S27: =Eingabe!R19 -> 0
C30: =Grunddaten!A6 -> U23 weiblich | F30: ="Vorlauf, "&Grunddaten!B6&", "&Grunddaten!C6 -> Vorlauf, 11.04.2026, H 9-12 | K30: ="Endlauf, "&Grunddaten!D6&", "&Grunddaten!E6 -> Endlauf, 12.04.2026, V 1-4 | P30: Gesamt
A31: DM-TN | B31: Platz | C31: Name | D31: Klub/Verein | F31: Volle | G31: Abr. | H31: FW | I31: Gesamt | K31: Volle | L31: Abr. | M31: FW | N31: Gesamt | P31: Volle | Q31: Abr. | R31: FW | S31: Gesamt
A32: DM | B32: 1. | C32: =Eingabe!B21 -> Josephin Liss (TV) | D32: =Eingabe!C21 -> SV Semper | F32: =Eingabe!G21 -> 0 | G32: =Eingabe!H21 -> 0 | H32: =Eingabe!I21 -> 0 | I32: =Eingabe!J21 -> 0 | K32: =Eingabe!K21 -> 0 | L32: =Eingabe!L21 -> 0 | M32: =Eingabe!M21 -> 0 | N32: =Eingabe!N21 -> 0 | P32: =Eingabe!O21 -> 0 | Q32: =Eingabe!P21 -> 0 | R32: =Eingabe!Q21 -> 0 | S32: =Eingabe!R21 -> 0
A33: DM | B33: 2. | C33: =Eingabe!B22 -> Laila Linke | D33: =Eingabe!C22 -> SV Semper | F33: =Eingabe!G22 -> 0 | G33: =Eingabe!H22 -> 0 | H33: =Eingabe!I22 -> 0 | I33: =Eingabe!J22 -> 0 | K33: =Eingabe!K22 -> 0 | L33: =Eingabe!L22 -> 0 | M33: =Eingabe!M22 -> 0 | N33: =Eingabe!N22 -> 0 | P33: =Eingabe!O22 -> 0 | Q33: =Eingabe!P22 -> 0 | R33: =Eingabe!Q22 -> 0 | S33: =Eingabe!R22 -> 0
B34: 3. | C34: =Eingabe!B23 -> Emely Hanke | D34: =Eingabe!C23 -> SW Berlin | F34: =Eingabe!G23 -> 0 | G34: =Eingabe!H23 -> 0 | H34: =Eingabe!I23 -> 0 | I34: =Eingabe!J23 -> 0 | K34: =Eingabe!K23 -> 0 | L34: =Eingabe!L23 -> 0 | M34: =Eingabe!M23 -> 0 | N34: =Eingabe!N23 -> 0 | P34: =Eingabe!O23 -> 0 | Q34: =Eingabe!P23 -> 0 | R34: =Eingabe!Q23 -> 0 | S34: =Eingabe!R23 -> 0
B35: 4. | C35: =Eingabe!B24 -> U23w 04 | D35: =Eingabe!C24 -> 0 | F35: =Eingabe!G24 -> 0 | G35: =Eingabe!H24 -> 0 | H35: =Eingabe!I24 -> 0 | I35: =Eingabe!J24 -> 0 | K35: =Eingabe!K24 -> 0 | L35: =Eingabe!L24 -> 0 | M35: =Eingabe!M24 -> 0 | N35: =Eingabe!N24 -> 0 | P35: =Eingabe!O24 -> 0 | Q35: =Eingabe!P24 -> 0 | R35: =Eingabe!Q24 -> 0 | S35: =Eingabe!R24 -> 0
B36: 5. | C36: =Eingabe!B25 -> U23w 05 | D36: =Eingabe!C25 -> 0 | F36: =Eingabe!G25 -> 0 | G36: =Eingabe!H25 -> 0 | H36: =Eingabe!I25 -> 0 | I36: =Eingabe!J25 -> 0 | K36: =Eingabe!K25 -> 0 | L36: =Eingabe!L25 -> 0 | M36: =Eingabe!M25 -> 0 | N36: =Eingabe!N25 -> 0 | P36: =Eingabe!O25 -> 0 | Q36: =Eingabe!P25 -> 0 | R36: =Eingabe!Q25 -> 0 | S36: =Eingabe!R25 -> 0
B37: 6. | C37: =Eingabe!B26 -> U23w 06 | D37: =Eingabe!C26 -> 0 | F37: =Eingabe!G26 -> 0 | G37: =Eingabe!H26 -> 0 | H37: =Eingabe!I26 -> 0 | I37: =Eingabe!J26 -> 0 | K37: =Eingabe!K26 -> 0 | L37: =Eingabe!L26 -> 0 | M37: =Eingabe!M26 -> 0 | N37: =Eingabe!N26 -> 0 | P37: =Eingabe!O26 -> 0 | Q37: =Eingabe!P26 -> 0 | R37: =Eingabe!Q26 -> 0 | S37: =Eingabe!R26 -> 0
B38: 7. | C38: =Eingabe!B27 -> U23w 07 | D38: =Eingabe!C27 -> 0 | F38: =Eingabe!G27 -> 0 | G38: =Eingabe!H27 -> 0 | H38: =Eingabe!I27 -> 0 | I38: =Eingabe!J27 -> 0 | K38: =Eingabe!K27 -> 0 | L38: =Eingabe!L27 -> 0 | M38: =Eingabe!M27 -> 0 | N38: =Eingabe!N27 -> 0 | P38: =Eingabe!O27 -> 0 | Q38: =Eingabe!P27 -> 0 | R38: =Eingabe!Q27 -> 0 | S38: =Eingabe!R27 -> 0
B39: 8. | C39: =Eingabe!B28 -> U23w 08 | D39: =Eingabe!C28 -> 0 | F39: =Eingabe!G28 -> 0 | G39: =Eingabe!H28 -> 0 | H39: =Eingabe!I28 -> 0 | I39: =Eingabe!J28 -> 0 | K39: =Eingabe!K28 -> 0 | L39: =Eingabe!L28 -> 0 | M39: =Eingabe!M28 -> 0 | N39: =Eingabe!N28 -> 0 | P39: =Eingabe!O28 -> 0 | Q39: =Eingabe!P28 -> 0 | R39: =Eingabe!Q28 -> 0 | S39: =Eingabe!R28 -> 0
C42: =Grunddaten!A7 -> Männer | F42: ="Vorlauf, "&Grunddaten!B7&", "&Grunddaten!C7 -> Vorlauf, 09.05.2026, V 1-4 | K42: ="Endlauf, "&Grunddaten!D7&", "&Grunddaten!E7 -> Endlauf, 10.05.2026, H 9-12 | P42: Gesamt
A43: DM-TN | B43: Platz | C43: Name | D43: Klub/Verein | F43: Volle | G43: Abr. | H43: FW | I43: Gesamt | K43: Volle | L43: Abr. | M43: FW | N43: Gesamt | P43: Volle | Q43: Abr. | R43: FW | S43: Gesamt
A44: DM | B44: 1. | C44: =Eingabe!B30 -> Männer 1 | D44: =Eingabe!C30 -> 0 | F44: =Eingabe!G30 -> 0 | G44: =Eingabe!H30 -> 0 | H44: =Eingabe!I30 -> 0 | I44: =Eingabe!J30 -> 0 | K44: =Eingabe!K30 -> 0 | L44: =Eingabe!L30 -> 0 | M44: =Eingabe!M30 -> 0 | N44: =Eingabe!N30 -> 0 | P44: =Eingabe!O30 -> 0 | Q44: =Eingabe!P30 -> 0 | R44: =Eingabe!Q30 -> 0 | S44: =Eingabe!R30 -> 0
B45: 2. | C45: =Eingabe!B31 -> Männer 2 | D45: =Eingabe!C31 -> 0 | F45: =Eingabe!G31 -> 0 | G45: =Eingabe!H31 -> 0 | H45: =Eingabe!I31 -> 0 | I45: =Eingabe!J31 -> 0 | K45: =Eingabe!K31 -> 0 | L45: =Eingabe!L31 -> 0 | M45: =Eingabe!M31 -> 0 | N45: =Eingabe!N31 -> 0 | P45: =Eingabe!O31 -> 0 | Q45: =Eingabe!P31 -> 0 | R45: =Eingabe!Q31 -> 0 | S45: =Eingabe!R31 -> 0
B46: 3. | C46: =Eingabe!B32 -> Männer 3 | D46: =Eingabe!C32 -> 0 | F46: =Eingabe!G32 -> 0 | G46: =Eingabe!H32 -> 0 | H46: =Eingabe!I32 -> 0 | I46: =Eingabe!J32 -> 0 | K46: =Eingabe!K32 -> 0 | L46: =Eingabe!L32 -> 0 | M46: =Eingabe!M32 -> 0 | N46: =Eingabe!N32 -> 0 | P46: =Eingabe!O32 -> 0 | Q46: =Eingabe!P32 -> 0 | R46: =Eingabe!Q32 -> 0 | S46: =Eingabe!R32 -> 0
B47: 4. | C47: =Eingabe!B33 -> Männer 4 | D47: =Eingabe!C33 -> 0 | F47: =Eingabe!G33 -> 0 | G47: =Eingabe!H33 -> 0 | H47: =Eingabe!I33 -> 0 | I47: =Eingabe!J33 -> 0 | K47: =Eingabe!K33 -> 0 | L47: =Eingabe!L33 -> 0 | M47: =Eingabe!M33 -> 0 | N47: =Eingabe!N33 -> 0 | P47: =Eingabe!O33 -> 0 | Q47: =Eingabe!P33 -> 0 | R47: =Eingabe!Q33 -> 0 | S47: =Eingabe!R33 -> 0
B48: 5. | C48: =Eingabe!B34 -> Männer 5 | D48: =Eingabe!C34 -> 0 | F48: =Eingabe!G34 -> 0 | G48: =Eingabe!H34 -> 0 | H48: =Eingabe!I34 -> 0 | I48: =Eingabe!J34 -> 0 | K48: =Eingabe!K34 -> 0 | L48: =Eingabe!L34 -> 0 | M48: =Eingabe!M34 -> 0 | N48: =Eingabe!N34 -> 0 | P48: =Eingabe!O34 -> 0 | Q48: =Eingabe!P34 -> 0 | R48: =Eingabe!Q34 -> 0 | S48: =Eingabe!R34 -> 0
B49: 6. | C49: =Eingabe!B35 -> Männer 6 | D49: =Eingabe!C35 -> 0 | F49: =Eingabe!G35 -> 0 | G49: =Eingabe!H35 -> 0 | H49: =Eingabe!I35 -> 0 | I49: =Eingabe!J35 -> 0 | K49: =Eingabe!K35 -> 0 | L49: =Eingabe!L35 -> 0 | M49: =Eingabe!M35 -> 0 | N49: =Eingabe!N35 -> 0 | P49: =Eingabe!O35 -> 0 | Q49: =Eingabe!P35 -> 0 | R49: =Eingabe!Q35 -> 0 | S49: =Eingabe!R35 -> 0
B50: 7. | C50: =Eingabe!B36 -> Männer 7 | D50: =Eingabe!C36 -> 0 | F50: =Eingabe!G36 -> 0 | G50: =Eingabe!H36 -> 0 | H50: =Eingabe!I36 -> 0 | I50: =Eingabe!J36 -> 0 | K50: =Eingabe!K36 -> 0 | L50: =Eingabe!L36 -> 0 | M50: =Eingabe!M36 -> 0 | N50: =Eingabe!N36 -> 0 | P50: =Eingabe!O36 -> 0 | Q50: =Eingabe!P36 -> 0 | R50: =Eingabe!Q36 -> 0 | S50: =Eingabe!R36 -> 0
B51: 8. | C51: =Eingabe!B37 -> Männer 8 | D51: =Eingabe!C37 -> 0 | F51: =Eingabe!G37 -> 0 | G51: =Eingabe!H37 -> 0 | H51: =Eingabe!I37 -> 0 | I51: =Eingabe!J37 -> 0 | K51: =Eingabe!K37 -> 0 | L51: =Eingabe!L37 -> 0 | M51: =Eingabe!M37 -> 0 | N51: =Eingabe!N37 -> 0 | P51: =Eingabe!O37 -> 0 | Q51: =Eingabe!P37 -> 0 | R51: =Eingabe!Q37 -> 0 | S51: =Eingabe!R37 -> 0
B52: 9. | C52: =Eingabe!B38 -> Männer 9 | D52: =Eingabe!C38 -> 0 | F52: =Eingabe!G38 -> 0 | G52: =Eingabe!H38 -> 0 | H52: =Eingabe!I38 -> 0 | I52: =Eingabe!J38 -> 0 | K52: =Eingabe!K38 -> 0 | L52: =Eingabe!L38 -> 0 | M52: =Eingabe!M38 -> 0 | N52: =Eingabe!N38 -> 0 | P52: =Eingabe!O38 -> 0 | Q52: =Eingabe!P38 -> 0 | R52: =Eingabe!Q38 -> 0 | S52: =Eingabe!R38 -> 0
...

Sheet Aushang (Vorlauf)
B5: Landesfachverband Berlin | D5: =Grunddaten!A1&" "&Grunddaten!D1 -> Berliner Einzelmeisterschaften Classic 2026
B6: für Kegeln und Bowling e.V.
C10: =Grunddaten!A5 -> Frauen | F10: ="Vorlauf, "&Grunddaten!B5&", "&Grunddaten!C5 -> Vorlauf, 09.05.2026, V 1-4
A11: DM-TN | B11: Platz | C11: Name | D11: Klub/Verein | F11: Volle | G11: Abr. | H11: FW | I11: Gesamt
B12: 1. | C12: =Eingabe!B4 -> Frauen 1 | D12: =Eingabe!C4 -> 0 | F12: =Eingabe!G4 -> 0 | G12: =Eingabe!H4 -> 0 | H12: =Eingabe!I4 -> 0 | I12: =Eingabe!J4 -> 0
B13: 3. | C13: =Eingabe!B5 -> Frauen 2 | D13: =Eingabe!C5 -> 0 | F13: =Eingabe!G5 -> 0 | G13: =Eingabe!H5 -> 0 | H13: =Eingabe!I5 -> 0 | I13: =Eingabe!J5 -> 0
B14: 7. | C14: =Eingabe!B6 -> Frauen 3 | D14: =Eingabe!C6 -> 0 | F14: =Eingabe!G12 -> 0 | G14: =Eingabe!H12 -> 0 | H14: =Eingabe!I12 -> 0 | I14: =Eingabe!J12 -> 0
B15: 2. | C15: =Eingabe!B7 -> Frauen 4 | D15: =Eingabe!C7 -> 0 | F15: =Eingabe!G7 -> 0 | G15: =Eingabe!H7 -> 0 | H15: =Eingabe!I7 -> 0 | I15: =Eingabe!J7 -> 0
B16: 4. | C16: =Eingabe!B8 -> Frauen 5 | D16: =Eingabe!C8 -> 0 | F16: =Eingabe!G8 -> 0 | G16: =Eingabe!H8 -> 0 | H16: =Eingabe!I8 -> 0 | I16: =Eingabe!J8 -> 0
B17: 8. | C17: =Eingabe!B9 -> Frauen 6 | D17: =Eingabe!C9 -> 0 | F17: =Eingabe!G9 -> 0 | G17: =Eingabe!H9 -> 0 | H17: =Eingabe!I9 -> 0 | I17: =Eingabe!J9 -> 0
B18: 5. | C18: =Eingabe!B10 -> Frauen 7 | D18: =Eingabe!C10 -> 0 | F18: =Eingabe!G10 -> 0 | G18: =Eingabe!H10 -> 0 | H18: =Eingabe!I10 -> 0 | I18: =Eingabe!J10 -> 0
B19: 10. | C19: =Eingabe!B11 -> Frauen 8 | D19: =Eingabe!C11 -> 0 | F19: =Eingabe!G11 -> 0 | G19: =Eingabe!H11 -> 0 | H19: =Eingabe!I11 -> 0 | I19: =Eingabe!J11 -> 0
B20: 9. | C20: =Eingabe!B12 -> Frauen 9 | D20: =Eingabe!C12 -> 0 | F20: =Eingabe!G12 -> 0 | G20: =Eingabe!H12 -> 0 | H20: =Eingabe!I12 -> 0 | I20: =Eingabe!J12 -> 0
B21: 6. | C21: =Eingabe!B13 -> Frauen 10 | D21: =Eingabe!C13 -> 0 | F21: =Eingabe!G13 -> 0 | G21: =Eingabe!H13 -> 0 | H21: =Eingabe!I13 -> 0 | I21: =Eingabe!J13 -> 0
B22: 11. | C22: =Eingabe!B14 -> Frauen 11 | D22: =Eingabe!C14 -> 0 | F22: =Eingabe!G14 -> 0 | G22: =Eingabe!H14 -> 0 | H22: =Eingabe!I14 -> 0 | I22: =Eingabe!J14 -> 0
B23: 12. | C23: =Eingabe!B15 -> Frauen 12 | D23: =Eingabe!C15 -> 0 | F23: =Eingabe!G15 -> 0 | G23: =Eingabe!H15 -> 0 | H23: =Eingabe!I15 -> 0 | I23: =Eingabe!J15 -> 0
B24: 13. | C24: =Eingabe!B16 -> Frauen 13 | D24: =Eingabe!C16 -> 0 | F24: =Eingabe!G16 -> 0 | G24: =Eingabe!H16 -> 0 | H24: =Eingabe!I16 -> 0 | I24: =Eingabe!J16 -> 0
B25: 14. | C25: =Eingabe!B17 -> Frauen 14 | D25: =Eingabe!C17 -> 0 | F25: =Eingabe!G17 -> 0 | G25: =Eingabe!H17 -> 0 | H25: =Eingabe!I17 -> 0 | I25: =Eingabe!J17 -> 0
B26: 15. | C26: =Eingabe!B18 -> Frauen 15 | D26: =Eingabe!C18 -> 0 | F26: =Eingabe!G18 -> 0 | G26: =Eingabe!H18 -> 0 | H26: =Eingabe!I18 -> 0 | I26: =Eingabe!J18 -> 0
B27: 16. | C27: =Eingabe!B19 -> Frauen 16 | D27: =Eingabe!C19 -> 0 | F27: =Eingabe!G19 -> 0 | G27: =Eingabe!H19 -> 0 | H27: =Eingabe!I19 -> 0 | I27: =Eingabe!J19 -> 0
C30: Männer | F30: ="Vorlauf, "&Grunddaten!B5&", "&Grunddaten!C5 -> Vorlauf, 09.05.2026, V 1-4
A31: DM-TN | B31: Platz | C31: Name | D31: Klub/Verein | F31: Volle | G31: Abr. | H31: FW | I31: Gesamt
B32: 1. | C32: =Eingabe!B30 -> Männer 1 | D32: =Eingabe!C30 -> 0 | F32: =Eingabe!G30 -> 0 | G32: =Eingabe!H30 -> 0 | H32: =Eingabe!I30 -> 0 | I32: =Eingabe!J30 -> 0
B33: 12. | C33: =Eingabe!B31 -> Männer 2 | D33: =Eingabe!C31 -> 0 | F33: =Eingabe!G31 -> 0 | G33: =Eingabe!H31 -> 0 | H33: =Eingabe!I31 -> 0 | I33: =Eingabe!J31 -> 0
B34: 4. | C34: =Eingabe!B32 -> Männer 3 | D34: =Eingabe!C32 -> 0 | F34: =Eingabe!G32 -> 0 | G34: =Eingabe!H32 -> 0 | H34: =Eingabe!I32 -> 0 | I34: =Eingabe!J32 -> 0
B35: 2. | C35: =Eingabe!B33 -> Männer 4 | D35: =Eingabe!C33 -> 0 | F35: =Eingabe!G33 -> 0 | G35: =Eingabe!H33 -> 0 | H35: =Eingabe!I33 -> 0 | I35: =Eingabe!J33 -> 0
B36: 8. | C36: =Eingabe!B34 -> Männer 5 | D36: =Eingabe!C34 -> 0 | F36: =Eingabe!G34 -> 0 | G36: =Eingabe!H34 -> 0 | H36: =Eingabe!I34 -> 0 | I36: =Eingabe!J34 -> 0
B37: 10. | C37: =Eingabe!B35 -> Männer 6 | D37: =Eingabe!C35 -> 0 | F37: =Eingabe!G35 -> 0 | G37: =Eingabe!H35 -> 0 | H37: =Eingabe!I35 -> 0 | I37: =Eingabe!J35 -> 0
B38: 7. | C38: =Eingabe!B36 -> Männer 7 | D38: =Eingabe!C36 -> 0 | F38: =Eingabe!G36 -> 0 | G38: =Eingabe!H36 -> 0 | H38: =Eingabe!I36 -> 0 | I38: =Eingabe!J36 -> 0
B39: 11. | C39: =Eingabe!B37 -> Männer 8 | D39: =Eingabe!C37 -> 0 | F39: =Eingabe!G37 -> 0 | G39: =Eingabe!H37 -> 0 | H39: =Eingabe!I37 -> 0 | I39: =Eingabe!J37 -> 0
B40: 6. | C40: =Eingabe!B38 -> Männer 9 | D40: =Eingabe!C38 -> 0 | F40: =Eingabe!G38 -> 0 | G40: =Eingabe!H38 -> 0 | H40: =Eingabe!I38 -> 0 | I40: =Eingabe!J38 -> 0
B41: 5. | C41: =Eingabe!B39 -> Männer 10 | D41: =Eingabe!C39 -> 0 | F41: =Eingabe!G39 -> 0 | G41: =Eingabe!H39 -> 0 | H41: =Eingabe!I39 -> 0 | I41: =Eingabe!J39 -> 0
B42: 9. | C42: =Eingabe!B40 -> Männer 11 | D42: =Eingabe!C40 -> 0 | F42: =Eingabe!G40 -> 0 | G42: =Eingabe!H40 -> 0 | H42: =Eingabe!I40 -> 0 | I42: =Eingabe!J40 -> 0
B43: 3. | C43: =Eingabe!B41 -> Männer 12 | D43: =Eingabe!C41 -> 0 | F43: =Eingabe!G41 -> 0 | G43: =Eingabe!H41 -> 0 | H43: =Eingabe!I41 -> 0 | I43: =Eingabe!J41 -> 0
C44: =Eingabe!B42 -> Männer 13 | D44: =Eingabe!C42 -> 0 | F44: =Eingabe!G42 -> 0 | G44: =Eingabe!H42 -> 0 | H44: =Eingabe!I42 -> 0 | I44: =Eingabe!J42 -> 0
C45: =Eingabe!B43 -> Männer 14 | D45: =Eingabe!C43 -> 0 | F45: =Eingabe!G43 -> 0 | G45: =Eingabe!H43 -> 0 | H45: =Eingabe!I43 -> 0 | I45: =Eingabe!J43 -> 0
C46: =Eingabe!B44 -> Männer 15 | D46: =Eingabe!C44 -> 0 | F46: =Eingabe!G44 -> 0 | G46: =Eingabe!H44 -> 0 | H46: =Eingabe!I44 -> 0 | I46: =Eingabe!J44 -> 0
C47: =Eingabe!B45 -> Männer 16 | D47: =Eingabe!C45 -> 0 | F47: =Eingabe!G45 -> 0 | G47: =Eingabe!H45 -> 0 | H47: =Eingabe!I45 -> 0 | I47: =Eingabe!J45 -> 0
C48: =Eingabe!B46 -> Männer 17 | D48: =Eingabe!C46 -> 0 | F48: =Eingabe!G46 -> 0 | G48: =Eingabe!H46 -> 0 | H48: =Eingabe!I46 -> 0 | I48: =Eingabe!J46 -> 0
C49: =Eingabe!B47 -> Männer 18 | D49: =Eingabe!C47 -> 0 | F49: =Eingabe!G47 -> 0 | G49: =Eingabe!H47 -> 0 | H49: =Eingabe!I47 -> 0 | I49: =Eingabe!J47 -> 0
...

Sheet Aushang (Endlauf)
T1: Bitte auf diesem Blatt keine Eingaben machen (zerstört Formeln).
B5: Landesfachverband Berlin | D5: =Grunddaten!A1&" "&Grunddaten!D1 -> Berliner Einzelmeisterschaften Classic 2026
B6: für Kegeln und Bowling e.V.
C10: =Grunddaten!A5 -> Frauen | F10: ="Vorlauf, "&Grunddaten!B5&", "&Grunddaten!C5 -> Vorlauf, 09.05.2026, V 1-4 | K10: ="Endlauf, "&Grunddaten!D5&", "&Grunddaten!E5 -> Endlauf, 10.05.2026, H 13-16 | P10: Gesamt
A11: DM-TN | B11: Platz | C11: Name | D11: Klub/Verein | F11: Volle | G11: Abr. | H11: FW | I11: Gesamt | K11: Volle | L11: Abr. | M11: FW | N11: Gesamt | P11: Volle | Q11: Abr. | R11: FW | S11: Gesamt
B12: 1. | C12: =Eingabe!B4 -> Frauen 1 | D12: =Eingabe!C4 -> 0 | F12: =Eingabe!G4 -> 0 | G12: =Eingabe!H4 -> 0 | H12: =Eingabe!I4 -> 0 | I12: =Eingabe!J4 -> 0 | K12: =Eingabe!K4 -> 0 | L12: =Eingabe!L4 -> 0 | M12: =Eingabe!M4 -> 0 | N12: =Eingabe!N4 -> 0 | P12: =Eingabe!O4 -> 0 | Q12: =Eingabe!P4 -> 0 | R12: =Eingabe!Q4 -> 0 | S12: =Eingabe!R4 -> 0
B13: 3. | C13: =Eingabe!B5 -> Frauen 2 | D13: =Eingabe!C5 -> 0 | F13: =Eingabe!G5 -> 0 | G13: =Eingabe!H5 -> 0 | H13: =Eingabe!I5 -> 0 | I13: =Eingabe!J5 -> 0 | K13: =Eingabe!K5 -> 0 | L13: =Eingabe!L5 -> 0 | M13: =Eingabe!M5 -> 0 | N13: =Eingabe!N5 -> 0 | P13: =Eingabe!O5 -> 0 | Q13: =Eingabe!P5 -> 0 | R13: =Eingabe!Q5 -> 0 | S13: =Eingabe!R5 -> 0
B14: 7. | C14: =Eingabe!B6 -> Frauen 3 | D14: =Eingabe!C6 -> 0 | F14: =Eingabe!G12 -> 0 | G14: =Eingabe!H12 -> 0 | H14: =Eingabe!I12 -> 0 | I14: =Eingabe!J12 -> 0 | K14: =Eingabe!K6 -> 0 | L14: =Eingabe!L6 -> 0 | M14: =Eingabe!M6 -> 0 | N14: =Eingabe!N6 -> 0 | P14: =Eingabe!O6 -> 0 | Q14: =Eingabe!P6 -> 0 | R14: =Eingabe!Q6 -> 0 | S14: =Eingabe!R6 -> 0
B15: 2. | C15: =Eingabe!B7 -> Frauen 4 | D15: =Eingabe!C7 -> 0 | F15: =Eingabe!G7 -> 0 | G15: =Eingabe!H7 -> 0 | H15: =Eingabe!I7 -> 0 | I15: =Eingabe!J7 -> 0 | K15: =Eingabe!K7 -> 0 | L15: =Eingabe!L7 -> 0 | M15: =Eingabe!M7 -> 0 | N15: =Eingabe!N7 -> 0 | P15: =Eingabe!O7 -> 0 | Q15: =Eingabe!P7 -> 0 | R15: =Eingabe!Q7 -> 0 | S15: =Eingabe!R7 -> 0
B16: 4. | C16: =Eingabe!B8 -> Frauen 5 | D16: =Eingabe!C8 -> 0 | F16: =Eingabe!G8 -> 0 | G16: =Eingabe!H8 -> 0 | H16: =Eingabe!I8 -> 0 | I16: =Eingabe!J8 -> 0 | K16: =Eingabe!K8 -> 0 | L16: =Eingabe!L8 -> 0 | M16: =Eingabe!M8 -> 0 | N16: =Eingabe!N8 -> 0 | P16: =Eingabe!O8 -> 0 | Q16: =Eingabe!P8 -> 0 | R16: =Eingabe!Q8 -> 0 | S16: =Eingabe!R8 -> 0
B17: 8. | C17: =Eingabe!B9 -> Frauen 6 | D17: =Eingabe!C9 -> 0 | F17: =Eingabe!G9 -> 0 | G17: =Eingabe!H9 -> 0 | H17: =Eingabe!I9 -> 0 | I17: =Eingabe!J9 -> 0 | K17: =Eingabe!K9 -> 0 | L17: =Eingabe!L9 -> 0 | M17: =Eingabe!M9 -> 0 | N17: =Eingabe!N9 -> 0 | P17: =Eingabe!O9 -> 0 | Q17: =Eingabe!P9 -> 0 | R17: =Eingabe!Q9 -> 0 | S17: =Eingabe!R9 -> 0
B18: 5. | C18: =Eingabe!B10 -> Frauen 7 | D18: =Eingabe!C10 -> 0 | F18: =Eingabe!G10 -> 0 | G18: =Eingabe!H10 -> 0 | H18: =Eingabe!I10 -> 0 | I18: =Eingabe!J10 -> 0 | K18: =Eingabe!K10 -> 0 | L18: =Eingabe!L10 -> 0 | M18: =Eingabe!M10 -> 0 | N18: =Eingabe!N10 -> 0 | P18: =Eingabe!O10 -> 0 | Q18: =Eingabe!P10 -> 0 | R18: =Eingabe!Q10 -> 0 | S18: =Eingabe!R10 -> 0
B19: 10. | C19: =Eingabe!B11 -> Frauen 8 | D19: =Eingabe!C11 -> 0 | F19: =Eingabe!G11 -> 0 | G19: =Eingabe!H11 -> 0 | H19: =Eingabe!I11 -> 0 | I19: =Eingabe!J11 -> 0 | K19: =Eingabe!K11 -> 0 | L19: =Eingabe!L11 -> 0 | M19: =Eingabe!M11 -> 0 | N19: =Eingabe!N11 -> 0 | P19: =Eingabe!O11 -> 0 | Q19: =Eingabe!P11 -> 0 | R19: =Eingabe!Q11 -> 0 | S19: =Eingabe!R11 -> 0
B20: 9. | C20: =Eingabe!B12 -> Frauen 9 | D20: =Eingabe!C12 -> 0 | F20: =Eingabe!G12 -> 0 | G20: =Eingabe!H12 -> 0 | H20: =Eingabe!I12 -> 0 | I20: =Eingabe!J12 -> 0 | K20: =Eingabe!K12 -> 0 | L20: =Eingabe!L12 -> 0 | M20: =Eingabe!M12 -> 0 | N20: =Eingabe!N12 -> 0 | P20: =Eingabe!O12 -> 0 | Q20: =Eingabe!P12 -> 0 | R20: =Eingabe!Q12 -> 0 | S20: =Eingabe!R12 -> 0
B21: 6. | C21: =Eingabe!B13 -> Frauen 10 | D21: =Eingabe!C13 -> 0 | F21: =Eingabe!G13 -> 0 | G21: =Eingabe!H13 -> 0 | H21: =Eingabe!I13 -> 0 | I21: =Eingabe!J13 -> 0 | K21: =Eingabe!K13 -> 0 | L21: =Eingabe!L13 -> 0 | M21: =Eingabe!M13 -> 0 | N21: =Eingabe!N13 -> 0 | P21: =Eingabe!O13 -> 0 | Q21: =Eingabe!P13 -> 0 | R21: =Eingabe!Q13 -> 0 | S21: =Eingabe!R13 -> 0
B22: 11. | C22: =Eingabe!B14 -> Frauen 11 | D22: =Eingabe!C14 -> 0 | F22: =Eingabe!G14 -> 0 | G22: =Eingabe!H14 -> 0 | H22: =Eingabe!I14 -> 0 | I22: =Eingabe!J14 -> 0 | K22: =Eingabe!K14 -> 0 | L22: =Eingabe!L14 -> 0 | M22: =Eingabe!M14 -> 0 | N22: =Eingabe!N14 -> 0 | P22: =Eingabe!O14 -> 0 | Q22: =Eingabe!P14 -> 0 | R22: =Eingabe!Q14 -> 0 | S22: =Eingabe!R14 -> 0
B23: 12. | C23: =Eingabe!B15 -> Frauen 12 | D23: =Eingabe!C15 -> 0 | F23: =Eingabe!G15 -> 0 | G23: =Eingabe!H15 -> 0 | H23: =Eingabe!I15 -> 0 | I23: =Eingabe!J15 -> 0 | K23: =Eingabe!K15 -> 0 | L23: =Eingabe!L15 -> 0 | M23: =Eingabe!M15 -> 0 | N23: =Eingabe!N15 -> 0 | P23: =Eingabe!O15 -> 0 | Q23: =Eingabe!P15 -> 0 | R23: =Eingabe!Q15 -> 0 | S23: =Eingabe!R15 -> 0
B24: 13. | C24: =Eingabe!B16 -> Frauen 13 | D24: =Eingabe!C16 -> 0 | F24: =Eingabe!G16 -> 0 | G24: =Eingabe!H16 -> 0 | H24: =Eingabe!I16 -> 0 | I24: =Eingabe!J16 -> 0 | K24: =Eingabe!K16 -> 0 | L24: =Eingabe!L16 -> 0 | M24: =Eingabe!M16 -> 0 | N24: =Eingabe!N16 -> 0 | P24: =Eingabe!O16 -> 0 | Q24: =Eingabe!P16 -> 0 | R24: =Eingabe!Q16 -> 0 | S24: =Eingabe!R16 -> 0
B25: 14. | C25: =Eingabe!B17 -> Frauen 14 | D25: =Eingabe!C17 -> 0 | F25: =Eingabe!G17 -> 0 | G25: =Eingabe!H17 -> 0 | H25: =Eingabe!I17 -> 0 | I25: =Eingabe!J17 -> 0 | K25: =Eingabe!K17 -> 0 | L25: =Eingabe!L17 -> 0 | M25: =Eingabe!M17 -> 0 | N25: =Eingabe!N17 -> 0 | P25: =Eingabe!O17 -> 0 | Q25: =Eingabe!P17 -> 0 | R25: =Eingabe!Q17 -> 0 | S25: =Eingabe!R17 -> 0
B26: 15. | C26: =Eingabe!B18 -> Frauen 15 | D26: =Eingabe!C18 -> 0 | F26: =Eingabe!G18 -> 0 | G26: =Eingabe!H18 -> 0 | H26: =Eingabe!I18 -> 0 | I26: =Eingabe!J18 -> 0 | K26: =Eingabe!K18 -> 0 | L26: =Eingabe!L18 -> 0 | M26: =Eingabe!M18 -> 0 | N26: =Eingabe!N18 -> 0 | P26: =Eingabe!O18 -> 0 | Q26: =Eingabe!P18 -> 0 | R26: =Eingabe!Q18 -> 0 | S26: =Eingabe!R18 -> 0
B27: 16. | C27: =Eingabe!B19 -> Frauen 16 | D27: =Eingabe!C19 -> 0 | F27: =Eingabe!G19 -> 0 | G27: =Eingabe!H19 -> 0 | H27: =Eingabe!I19 -> 0 | I27: =Eingabe!J19 -> 0 | K27: =Eingabe!K19 -> 0 | L27: =Eingabe!L19 -> 0 | M27: =Eingabe!M19 -> 0 | N27: =Eingabe!N19 -> 0 | P27: =Eingabe!O19 -> 0 | Q27: =Eingabe!P19 -> 0 | R27: =Eingabe!Q19 -> 0 | S27: =Eingabe!R19 -> 0
C30: Männer | F30: ="Vorlauf, "&Grunddaten!B5&", "&Grunddaten!C5 -> Vorlauf, 09.05.2026, V 1-4 | K30: ="Endlauf, "&Grunddaten!D5&", "&Grunddaten!E5 -> Endlauf, 10.05.2026, H 13-16 | P30: Gesamt
A31: DM-TN | B31: Platz | C31: Name | D31: Klub/Verein | F31: Volle | G31: Abr. | H31: FW | I31: Gesamt | K31: Volle | L31: Abr. | M31: FW | N31: Gesamt | P31: Volle | Q31: Abr. | R31: FW | S31: Gesamt
B32: 1. | C32: =Eingabe!B30 -> Männer 1 | D32: =Eingabe!C30 -> 0 | F32: =Eingabe!G30 -> 0 | G32: =Eingabe!H30 -> 0 | H32: =Eingabe!I30 -> 0 | I32: =Eingabe!J30 -> 0 | K32: =Eingabe!K30 -> 0 | L32: =Eingabe!L30 -> 0 | M32: =Eingabe!M30 -> 0 | N32: =Eingabe!N30 -> 0 | P32: =Eingabe!O30 -> 0 | Q32: =Eingabe!P30 -> 0 | R32: =Eingabe!Q30 -> 0 | S32: =Eingabe!R30 -> 0
B33: 12. | C33: =Eingabe!B31 -> Männer 2 | D33: =Eingabe!C31 -> 0 | F33: =Eingabe!G31 -> 0 | G33: =Eingabe!H31 -> 0 | H33: =Eingabe!I31 -> 0 | I33: =Eingabe!J31 -> 0 | K33: =Eingabe!K31 -> 0 | L33: =Eingabe!L31 -> 0 | M33: =Eingabe!M31 -> 0 | N33: =Eingabe!N31 -> 0 | P33: =Eingabe!O31 -> 0 | Q33: =Eingabe!P31 -> 0 | R33: =Eingabe!Q31 -> 0 | S33: =Eingabe!R31 -> 0
B34: 4. | C34: =Eingabe!B32 -> Männer 3 | D34: =Eingabe!C32 -> 0 | F34: =Eingabe!G32 -> 0 | G34: =Eingabe!H32 -> 0 | H34: =Eingabe!I32 -> 0 | I34: =Eingabe!J32 -> 0 | K34: =Eingabe!K32 -> 0 | L34: =Eingabe!L32 -> 0 | M34: =Eingabe!M32 -> 0 | N34: =Eingabe!N32 -> 0 | P34: =Eingabe!O32 -> 0 | Q34: =Eingabe!P32 -> 0 | R34: =Eingabe!Q32 -> 0 | S34: =Eingabe!R32 -> 0
B35: 2. | C35: =Eingabe!B33 -> Männer 4 | D35: =Eingabe!C33 -> 0 | F35: =Eingabe!G33 -> 0 | G35: =Eingabe!H33 -> 0 | H35: =Eingabe!I33 -> 0 | I35: =Eingabe!J33 -> 0 | K35: =Eingabe!K33 -> 0 | L35: =Eingabe!L33 -> 0 | M35: =Eingabe!M33 -> 0 | N35: =Eingabe!N33 -> 0 | P35: =Eingabe!O33 -> 0 | Q35: =Eingabe!P33 -> 0 | R35: =Eingabe!Q33 -> 0 | S35: =Eingabe!R33 -> 0
B36: 8. | C36: =Eingabe!B34 -> Männer 5 | D36: =Eingabe!C34 -> 0 | F36: =Eingabe!G34 -> 0 | G36: =Eingabe!H34 -> 0 | H36: =Eingabe!I34 -> 0 | I36: =Eingabe!J34 -> 0 | K36: =Eingabe!K34 -> 0 | L36: =Eingabe!L34 -> 0 | M36: =Eingabe!M34 -> 0 | N36: =Eingabe!N34 -> 0 | P36: =Eingabe!O34 -> 0 | Q36: =Eingabe!P34 -> 0 | R36: =Eingabe!Q34 -> 0 | S36: =Eingabe!R34 -> 0
B37: 10. | C37: =Eingabe!B35 -> Männer 6 | D37: =Eingabe!C35 -> 0 | F37: =Eingabe!G35 -> 0 | G37: =Eingabe!H35 -> 0 | H37: =Eingabe!I35 -> 0 | I37: =Eingabe!J35 -> 0 | K37: =Eingabe!K35 -> 0 | L37: =Eingabe!L35 -> 0 | M37: =Eingabe!M35 -> 0 | N37: =Eingabe!N35 -> 0 | P37: =Eingabe!O35 -> 0 | Q37: =Eingabe!P35 -> 0 | R37: =Eingabe!Q35 -> 0 | S37: =Eingabe!R35 -> 0
B38: 7. | C38: =Eingabe!B36 -> Männer 7 | D38: =Eingabe!C36 -> 0 | F38: =Eingabe!G36 -> 0 | G38: =Eingabe!H36 -> 0 | H38: =Eingabe!I36 -> 0 | I38: =Eingabe!J36 -> 0 | K38: =Eingabe!K36 -> 0 | L38: =Eingabe!L36 -> 0 | M38: =Eingabe!M36 -> 0 | N38: =Eingabe!N36 -> 0 | P38: =Eingabe!O36 -> 0 | Q38: =Eingabe!P36 -> 0 | R38: =Eingabe!Q36 -> 0 | S38: =Eingabe!R36 -> 0
B39: 11. | C39: =Eingabe!B37 -> Männer 8 | D39: =Eingabe!C37 -> 0 | F39: =Eingabe!G37 -> 0 | G39: =Eingabe!H37 -> 0 | H39: =Eingabe!I37 -> 0 | I39: =Eingabe!J37 -> 0 | K39: =Eingabe!K37 -> 0 | L39: =Eingabe!L37 -> 0 | M39: =Eingabe!M37 -> 0 | N39: =Eingabe!N37 -> 0 | P39: =Eingabe!O37 -> 0 | Q39: =Eingabe!P37 -> 0 | R39: =Eingabe!Q37 -> 0 | S39: =Eingabe!R37 -> 0
B40: 6. | C40: =Eingabe!B38 -> Männer 9 | D40: =Eingabe!C38 -> 0 | F40: =Eingabe!G38 -> 0 | G40: =Eingabe!H38 -> 0 | H40: =Eingabe!I38 -> 0 | I40: =Eingabe!J38 -> 0 | K40: =Eingabe!K38 -> 0 | L40: =Eingabe!L38 -> 0 | M40: =Eingabe!M38 -> 0 | N40: =Eingabe!N38 -> 0 | P40: =Eingabe!O38 -> 0 | Q40: =Eingabe!P38 -> 0 | R40: =Eingabe!Q38 -> 0 | S40: =Eingabe!R38 -> 0
B41: 5. | C41: =Eingabe!B39 -> Männer 10 | D41: =Eingabe!C39 -> 0 | F41: =Eingabe!G39 -> 0 | G41: =Eingabe!H39 -> 0 | H41: =Eingabe!I39 -> 0 | I41: =Eingabe!J39 -> 0 | K41: =Eingabe!K39 -> 0 | L41: =Eingabe!L39 -> 0 | M41: =Eingabe!M39 -> 0 | N41: =Eingabe!N39 -> 0 | P41: =Eingabe!O39 -> 0 | Q41: =Eingabe!P39 -> 0 | R41: =Eingabe!Q39 -> 0 | S41: =Eingabe!R39 -> 0
B42: 9. | C42: =Eingabe!B40 -> Männer 11 | D42: =Eingabe!C40 -> 0 | F42: =Eingabe!G40 -> 0 | G42: =Eingabe!H40 -> 0 | H42: =Eingabe!I40 -> 0 | I42: =Eingabe!J40 -> 0 | K42: =Eingabe!K40 -> 0 | L42: =Eingabe!L40 -> 0 | M42: =Eingabe!M40 -> 0 | N42: =Eingabe!N40 -> 0 | P42: =Eingabe!O40 -> 0 | Q42: =Eingabe!P40 -> 0 | R42: =Eingabe!Q40 -> 0 | S42: =Eingabe!R40 -> 0
B43: 3. | C43: =Eingabe!B41 -> Männer 12 | D43: =Eingabe!C41 -> 0 | F43: =Eingabe!G41 -> 0 | G43: =Eingabe!H41 -> 0 | H43: =Eingabe!I41 -> 0 | I43: =Eingabe!J41 -> 0 | K43: =Eingabe!K41 -> 0 | L43: =Eingabe!L41 -> 0 | M43: =Eingabe!M41 -> 0 | N43: =Eingabe!N41 -> 0 | P43: =Eingabe!O41 -> 0 | Q43: =Eingabe!P41 -> 0 | R43: =Eingabe!Q41 -> 0 | S43: =Eingabe!R41 -> 0
C44: =Eingabe!B42 -> Männer 13 | D44: =Eingabe!C42 -> 0 | F44: =Eingabe!G42 -> 0 | G44: =Eingabe!H42 -> 0 | H44: =Eingabe!I42 -> 0 | I44: =Eingabe!J42 -> 0 | K44: =Eingabe!K42 -> 0 | L44: =Eingabe!L42 -> 0 | M44: =Eingabe!M42 -> 0 | N44: =Eingabe!N42 -> 0 | P44: =Eingabe!O42 -> 0 | Q44: =Eingabe!P42 -> 0 | R44: =Eingabe!Q42 -> 0 | S44: =Eingabe!R42 -> 0
C45: =Eingabe!B43 -> Männer 14 | D45: =Eingabe!C43 -> 0 | F45: =Eingabe!G43 -> 0 | G45: =Eingabe!H43 -> 0 | H45: =Eingabe!I43 -> 0 | I45: =Eingabe!J43 -> 0 | K45: =Eingabe!K43 -> 0 | L45: =Eingabe!L43 -> 0 | M45: =Eingabe!M43 -> 0 | N45: =Eingabe!N43 -> 0 | P45: =Eingabe!O43 -> 0 | Q45: =Eingabe!P43 -> 0 | R45: =Eingabe!Q43 -> 0 | S45: =Eingabe!R43 -> 0
C46: =Eingabe!B44 -> Männer 15 | D46: =Eingabe!C44 -> 0 | F46: =Eingabe!G44 -> 0 | G46: =Eingabe!H44 -> 0 | H46: =Eingabe!I44 -> 0 | I46: =Eingabe!J44 -> 0 | K46: =Eingabe!K44 -> 0 | L46: =Eingabe!L44 -> 0 | M46: =Eingabe!M44 -> 0 | N46: =Eingabe!N44 -> 0 | P46: =Eingabe!O44 -> 0 | Q46: =Eingabe!P44 -> 0 | R46: =Eingabe!Q44 -> 0 | S46: =Eingabe!R44 -> 0
C47: =Eingabe!B45 -> Männer 16 | D47: =Eingabe!C45 -> 0 | F47: =Eingabe!G45 -> 0 | G47: =Eingabe!H45 -> 0 | H47: =Eingabe!I45 -> 0 | I47: =Eingabe!J45 -> 0 | K47: =Eingabe!K45 -> 0 | L47: =Eingabe!L45 -> 0 | M47: =Eingabe!M45 -> 0 | N47: =Eingabe!N45 -> 0 | P47: =Eingabe!O45 -> 0 | Q47: =Eingabe!P45 -> 0 | R47: =Eingabe!Q45 -> 0 | S47: =Eingabe!R45 -> 0
C48: =Eingabe!B46 -> Männer 17 | D48: =Eingabe!C46 -> 0 | F48: =Eingabe!G46 -> 0 | G48: =Eingabe!H46 -> 0 | H48: =Eingabe!I46 -> 0 | I48: =Eingabe!J46 -> 0 | K48: =Eingabe!K46 -> 0 | L48: =Eingabe!L46 -> 0 | M48: =Eingabe!M46 -> 0 | N48: =Eingabe!N46 -> 0 | P48: =Eingabe!O46 -> 0 | Q48: =Eingabe!P46 -> 0 | R48: =Eingabe!Q46 -> 0 | S48: =Eingabe!R46 -> 0
...

Sheet Startplan  U23
A1: Berliner Einzelmeisterschaften Classic 2026 - U23
A5: Vorläufe U 23
A7: Sa. 11.04.2026 | E7: Kegelsportzentrum Hämmerlingstr. | J7: Wettspielleitung: Jürgen Liss
A9: Startzeit | B9: Schreibzeit | C9: Altersklasse | D9: Bahn 9 | E9: Bahn 10 | F9: Bahn 11 | G9: Bahn 12 | H9: Altersklasse | I9: Startzeit | J9: Schreibzeit
C10: U23 w | D10: =Namen!$B$9 -> U23w 05 | E10: =Namen!$B$10 -> U23w 06 | F10: =Namen!$B$11 -> U23w 07 | G10: =Namen!$B$12 -> U23w 08 | H10: U23 w
D11: =Namen!$C$9 -> 0 | E11: =Namen!$C$10 -> 0 | F11: =Namen!$C$11 -> 0 | G11: =Namen!$C$12 -> 0
A12: 0.54166667 | B12: 0.58333333 | C12: U23 w | D12: =Namen!$B$5 -> Josephin Liss (TV) | E12: =Namen!$B$6 -> Laila Linke | F12: =Namen!$B$7 -> Emely Hanke | G12: =Namen!$B$8 -> U23w 04 | H12: U23 w | I12: 0.54166667 | J12: 0.58333333
D13: =Namen!$C$5 -> SV Semper | E13: =Namen!$C$6 -> SV Semper | F13: =Namen!$C$7 -> KSC SW Berlin | G13: =Namen!$C$8 -> 0
C14: U23 m | D14: =Namen!$G$9 -> U23m 05 | E14: =Namen!$G$10 -> U23m 06 | F14: =Namen!$G$11 -> U23m 07 | G14: =Namen!$G$12 -> U23m 08 | H14: U23 m
D15: =Namen!$H$9 -> 0 | E15: =Namen!$H$10 -> 0 | F15: =Namen!$H$11 -> 0 | G15: =Namen!$H$12 -> 0
A16: 0.58333333 | B16: 0.54166667 | C16: U23 m | D16: =Namen!$G$5 -> Kristoph Napp (TV) | E16: =Namen!$G$6 -> Lou-Lennard Gelder | F16: =Namen!$G$7 -> Benjamin Lück | G16: =Namen!$G$8 -> U23m 04 | H16: U23 m | I16: 0.58333333 | J16: 0.54166667
D17: =Namen!$H$5 -> Hertha BSC | E17: =Namen!$H$6 -> BSV AdW | F17: =Namen!$H$7 -> BSV AdW | G17: =Namen!$H$8 -> 0
A18: 0.625
A20: Endläufe U 23
A22: So. 12.04.2026 | E22: Kegelhalle Völkerfreundschaft | J22: Wettspielleitung: Jürgen Liss
A24: Startzeit | B24: Schreibzeit | C24: Altersklasse | D24: Bahn 1 | E24: Bahn 2 | F24: Bahn 3 | G24: Bahn 4 | H24: Altersklasse | I24: Startzeit | J24: Schreibzeit
A25: 0.41666667 | B25: 0.45833333 | C25: U23 w | D25: U23w 01 | E25: U23w 02 | F25: U23w 03 | H25: U23 w | I25: 0.41666667 | J25: 0.45833333
A26: 0.45833333 | B26: 0.41666667 | C26: U23 m | D26: U23m 01 | E26: U23m 02 | F26: U23m 03 | H26: U23 m | I26: 0.45833333 | J26: 0.41666667
A27: 0.5
A29: Siegerehrung ca. 12:15

Sheet Startplan 
A1: Berliner Einzelmeisterschaften Classic 2025 - Frauen / Männer / U23 / U18
A3: Vorläufe U 23
A5: Do. 08.05.2025 | E5: Kegelhalle Völkerfreundschaft | J5: Wettspielleitung: André Klehr/Jürgen Liss
A7: Startzeit | B7: Schreibzeit | C7: Altersklasse | D7: Bahn 1 | E7: Bahn 2 | F7: Bahn 3 | G7: Bahn 4 | H7: Altersklasse | I7: Startzeit | J7: Schreibzeit
C8: U23 w | D8: =Namen!$B$12 -> U23w 08 | E8: =Namen!$B$11 -> U23w 07 | F8: =Namen!$B$10 -> U23w 06 | G8: =Namen!$B$9 -> U23w 05 | H8: U23 w
D9: =Namen!$C$12 -> 0 | E9: =Namen!$C$11 -> 0 | F9: =Namen!$C$10 -> 0 | G9: =Namen!$C$9 -> 0
A10: 0.70833333 | B10: 0.75 | C10: U23 w | D10: =Namen!$B$8 -> U23w 04 | E10: =Namen!$B$7 -> Emely Hanke | F10: =Namen!$B$6 -> Laila Linke | G10: =Namen!$B$5 -> Josephin Liss (TV) | H10: U23 w | I10: 0.70833333 | J10: 0.75
D11: =Namen!$C$8 -> 0 | E11: =Namen!$C$7 -> KSC SW Berlin | F11: =Namen!$C$6 -> SV Semper | G11: =Namen!$C$5 -> SV Semper
C12: U23 m | D12: =Namen!$G$12 -> U23m 08 | E12: =Namen!$G$11 -> U23m 07 | F12: =Namen!$G$10 -> U23m 06 | G12: =Namen!$G$9 -> U23m 05 | H12: U23 m
D13: =Namen!$H$12 -> 0 | E13: =Namen!$H$11 -> 0 | F13: =Namen!$H$10 -> 0 | G13: =Namen!$H$9 -> 0
A14: 0.75 | B14: 0.70833333 | C14: U23 m | D14: =Namen!$G$8 -> U23m 04 | E14: =Namen!$G$7 -> Benjamin Lück | F14: =Namen!$G$6 -> Lou-Lennard Gelder | G14: =Namen!$G$5 -> Kristoph Napp (TV) | H14: U23 m | I14: 0.75 | J14: 0.70833333
D15: =Namen!$H$8 -> 0 | E15: =Namen!$H$7 -> BSV AdW | F15: =Namen!$H$6 -> BSV AdW | G15: =Namen!$H$5 -> Hertha BSC
A16: 0.79166667
A18: Endläufe U 23
A20: Fr. 09.10.2025 | E20: Kegelsportzentrum Hämmerlingstr. | J20: Wettspielleitung: André Klehr/Jürgen Liss
A22: Startzeit | B22: Schreibzeit | C22: Altersklasse | D22: Bahn 13 | E22: Bahn 14 | F22: Bahn 15 | G22: Bahn 16 | H22: Altersklasse | I22: Startzeit | J22: Schreibzeit
A23: 0.66666667 | B23: 0.70833333 | C23: U23 w | F23: U23w 02 | G23: U23w 01 | H23: U23 w | I23: 0.66666667 | J23: 0.70833333
A24: 0.70833333 | B24: 0.66666667 | C24: U23 m | D24: U23m 04 | E24: U23m 03 | F24: U23m 02 | G24: U23m 01 | H24: U23 m | I24: 0.70833333 | J24: 0.66666667
A25: 0.75
A27: Siegerehrung ca. 18:15
A29: Vorläufe U18 / Frauen / Männer
A31: Sa. 10.05.2025 | E31: Kegelhalle Völkerfreundschaft | J31: Wettspielleitung: André Klehr/Jürgen Liss
A33: Startzeit | B33: Schreibzeit | C33: Altersklasse | D33: Bahn 1 | E33: Bahn 2 | F33: Bahn 3 | G33: Bahn 4 | H33: Altersklasse | I33: Startzeit | J33: Schreibzeit
A34: 0.41666667 | B34: 0.45833333 | C34: U18 m | E34: Toni Kricke | F34: Emilian Liss | G34: Tobias Scheffler | H34: U18 m | I34: 0.41666667 | J34: 0.45833333
E35: Semper | F35: Semper | G35: Semper
A36: 0.45833333 | B36: 0.5 | C36: U18 m | D36: David Kricke | E36: Bruno Vojnovic | F36: Florian Weber | G36: Anton Drache | H36: U18 m | I36: 0.45833333 | J36: 0.5
D37: Semper | E37: Semper | F37: Semper | G37: Kleeblatt
A38: 0.5 | B38: 0.41666667 | C38: U18 w | E38: Emily Berger | F38: Lindsay Gerkhardt | G38: Anni Noack | H38: U18 w | I38: 0.5 | J38: 0.41666667
E39: Semper | F39: Semper | G39: Semper
A40: 0.54166667 | B40: 0.625 | C40: Frauen | E40: =Namen!$B$19 -> Frauen 3 | F40: =Namen!$B$18 -> Frauen 2 | G40: =Namen!$B$17 -> Frauen 1 | H40: Frauen | I40: 0.54166667 | J40: 0.625
E41: =Namen!$C$19 -> 0 | F41: =Namen!$C$18 -> 0 | G41: =Namen!$C$17 -> 0
A42: 0.41666667 | B42: 0.45833333 | C42: Männer | D42: =Namen!$G$40 -> Männer 24 | E42: =Namen!$G$39 -> Männer 23 | F42: =Namen!$G$38 -> Männer 22 | G42: =Namen!$G$37 -> Männer 21 | H42: Männer
D43: =Namen!$H$40 -> 0 | E43: =Namen!$H$39 -> 0 | F43: =Namen!$H$38 -> 0 | G43: =Namen!$H$37 -> 0
A44: 0.45833333 | B44: 0.5 | C44: Männer | D44: =Namen!$G$36 -> Männer 20 | E44: =Namen!$G$35 -> Männer 19 | F44: =Namen!$G$34 -> Männer 18 | G44: =Namen!$G$33 -> Männer 17 | H44: Männer
D45: =Namen!$H$36 -> 0 | E45: =Namen!$H$35 -> 0 | F45: =Namen!$H$34 -> 0 | G45: =Namen!$H$33 -> 0
A46: 0.5 | B46: 0.58333333 | C46: Männer | D46: =Namen!$G$32 -> Männer 16 | E46: =Namen!$G$31 -> Männer 15 | F46: =Namen!$G$30 -> Männer 14 | G46: =Namen!$G$29 -> Männer 13 | H46: Männer | I46: 0.5 | J46: 0.58333333
D47: =Namen!$H$32 -> 0 | E47: =Namen!$H$31 -> 0 | F47: =Namen!$H$30 -> 0 | G47: =Namen!$H$29 -> 0
A48: 0.58333333 | B48: 0.66666667 | C48: Männer | D48: =Namen!$G$28 -> Männer 12 | E48: =Namen!$G$27 -> Männer 11 | F48: =Namen!$G$26 -> Männer 10 | G48: =Namen!$G$25 -> Männer 9 | H48: Männer | I48: 0.58333333 | J48: 0.66666667
D49: =Namen!$H$28 -> 0 | E49: =Namen!$H$27 -> 0 | F49: =Namen!$H$26 -> 0 | G49: =Namen!$H$25 -> 0
A50: 0.625 | B50: 0.54166667 | C50: Männer | D50: =Namen!$G$24 -> Männer 8 | E50: =Namen!$G$23 -> Männer 7 | F50: =Namen!$G$22 -> Männer 6 | G50: =Namen!$G$21 -> Männer 5 | H50: Männer | I50: 0.625 | J50: 0.54166667
...

Sheet Startplan Endläufe 2025
A1: Berliner Einzelmeisterschaften Classic 2025 - Frauen / Männer / U18
A3: Endläufe
A5: So. 11.05.0225 | D5: Kegelsportzentrum Hämmerlingstr. | J5: Wettspielleitung: Jürgen Liss
A7: Startzeit | B7: Schreibzeit | C7: Altersklasse | D7: Bahn 9 | E7: Bahn 10 | F7: Bahn 11 | G7: Bahn 12 | H7: Altersklasse | I7: Startzeit | J7: Schreibzeit
A8: 0.41666667 | B8: 0.45833333 | C8: U18 w | F8: Lindsay Gerkhardt | G8: Anni Noack | H8: U18 w | I8: 0.41666667 | J8: 0.45833333
F9: Semper / 508 | G9: Semper / 514
A10: 0.45833333 | B10: 0.5 | C10: U18 m | E10: Emilian Liss | F10: Tobias Scheffler | G10: Bruno Vujnovic | H10: U18 m | I10: 0.45833333 | J10: 0.5
E11: Semper / 453 | F11: Semper / 490 | G11: Semper / 498
A12: 0.5 | B12: 0.41666667 | C12: U18 m | D12: Florian Weber | E12: Anton Drache | F12: Toni Kricke | G12: David Kricke | H12: U18 m | I12: 0.5 | J12: 0.41666667
D13: Semper / 506 | E13: Kleeblatt / 530 | F13: Semper / 542 | G13: Semper / 562
A14: 0.54166667
A16: So. 11.05.0225 | D16: Kegelsportzentrum Hämmerlingstr. | J16: Wettspielleitung: André Klehr
A18: Startzeit | B18: Schreibzeit | C18: Altersklasse | D18: Bahn 13 | E18: Bahn 14 | F18: Bahn 15 | G18: Bahn 16 | H18: Altersklasse | I18: Startzeit | J18: Schreibzeit
A19: 0.41666667 | B19: 0.45833333 | C19: Frauen | E19: Martina Willer | F19: Annamaria Bende | G19: Katja Helfert | H19: Frauen | I19: 0.41666667 | J19: 0.45833333
E20: Kleeblatt / 475 | F20: Kleeblatt / 483 | G20: Kleeblatt / 551
A21: 0.45833333 | B21: 0.5 | C21: Männer | D21: Patrick Gulbin | E21: Sven Pietschmann | F21: Mayuran Vvivekananthan | G21: René Bartscheck | H21: Männer | I21: 0.45833333 | J21: 0.5
D22: Semper / 520 | E22: Semper / 524 | F22: KSC RW / 533 | G22: Kleeblatt / 533
A23: 0.5 | B23: 0.41666667 | C23: Männer | D23: Sebastian Käfer | E23: Martin Asmus | F23: Max Heinimann | G23: Christian Drache | H23: Männer | I23: 0.5 | J23: 0.41666667
D24: Kleeblatt / 536 | E24: Kleeblatt / 550 | F24: Kleeblatt / 552 | G24: Kleeblatt / 572
A25: 0.54166667

Sheet Startplan Endläufe
A1: Berliner Einzelmeisterschaften Classic 2024 -
A3: Endläufe
A5: So. 28.05.2017 | D5: Kegelsportzentrum Hämmerlingstr. | J5: Wettspielleitung: André Klehr / N.N.
A7: Startzeit | B7: Schreibzeit | C7: Altersklasse | D7: Bahn 9 | E7: Bahn 10 | F7: Bahn 11 | G7: Bahn 12 | H7: Altersklasse | I7: Startzeit | J7: Schreibzeit
A8: 0.375 | C8: Jugend | D8: BJM | E8: BJM | F8: BJM | G8: BJM | H8: Jugend
D9: Startplatz 1 | E9: Startplatz 2 | F9: Startplatz 3 | G9: Startplatz 4
A10: 0.41666667 | C10: Jugend | D10: BJM | E10: BJM | F10: BJM | G10: BJM | H10: Jugend
D11: Startplatz 9 | E11: Startplatz 10 | F11: Startplatz 11 | G11: Startplatz 12
A12: 0.45833333 | B12: 0.5 | C12: Frauen | D12: Frauen 08 | E12: Frauen 07 | F12: Frauen 06 | G12: Frauen 05 | H12: Frauen | I12: 0.45833333 | J12: 0.5
A14: 0.5 | B14: 0.45833333 | C14: Frauen | D14: Frauen 04 | E14: Frauen 03 | F14: Frauen 02 | G14: Frauen 01 | H14: Frauen | I14: 0.5 | J14: 0.45833333
A16: 0.54166667
A18: So. 28.05.2017 | D18: Kegelsportzentrum Hämmerlingstr. | J18: Wettspielleitung: André Klehr / N.N.
A20: Startzeit | B20: Schreibzeit | C20: Altersklasse | D20: Bahn 13 | E20: Bahn 14 | F20: Bahn 15 | G20: Bahn 16 | H20: Altersklasse | I20: Startzeit | J20: Schreibzeit
A21: 0.375 | C21: Jugend | D21: BJM | E21: BJM | F21: BJM | G21: BJM | H21: Jugend | I21: 0.375
D22: Startplatz 5 | E22: Startplatz 6 | F22: Startplatz 7 | G22: Startplatz 8
A23: 0.41666667 | B23: 0.45833333 | C23: Männer | D23: Männer 12 | E23: Männer 11 | F23: Männer 10 | G23: Männer 09 | H23: Männer | I23: 0.41666667 | J23: 0.45833333
A25: 0.45833333 | B25: 0.5 | C25: Männer | D25: Männer 08 | E25: Männer 07 | F25: Männer 06 | G25: Männer 05 | H25: Männer | I25: 0.45833333 | J25: 0.5
A27: 0.5 | B27: 0.41666667 | C27: Männer | D27: Männer 04 | E27: Männer 03 | F27: Männer 02 | G27: Männer 01 | H27: Männer | I27: 0.5 | J27: 0.41666667
A29: 0.54166667

Sheet Meldungen
A3: U23 weiblich | E3: U23 männlich
B4: Name | C4: Klub | F4: Name | G4: Klub
A5: 1 | B5: Josephin Liss | C5: SV Semper | E5: 1 | F5: Benjamin Lück | G5: BSV AdW
A6: 2 | B6: Laila Linke | C6: SV Semper | E6: 2 | F6: Lou-Lennard Gelder | G6: BSV AdW
A7: 3 | B7: Emely Hanke | C7: SW Berlin | E7: 3 | F7: Kristoph Napp | G7: Hertha BSC
A8: 4 | E8: 4
A9: 5 | E9: 5
A10: 6 | E10: 6
A11: 7 | E11: 7
A12: 8 | E12: 8
A13: 9 | E13: 9
A14: 10 | E14: 10
A17: Frauen | E17: Männer
B18: Name | C18: Klub | F18: Name | G18: Klub
A19: 1 | E19: 1
A20: 2 | E20: 2
A21: 3 | E21: 3
A22: 4 | E22: 4
A23: 5 | E23: 5
A24: 6 | E24: 6
A25: 7 | E25: 7
A26: 8 | E26: 8
A27: 9 | E27: 9
A28: 10 | E28: 10
